BEGIN:VCALENDAR
VERSION:2.0
METHOD:PUBLISH
PRODID:-//imacoda.com//SPD-Web-O-Mat//EN
CALSCALE:GREGORIAN
BEGIN:VTIMEZONE
TZID:Europe/Berlin
BEGIN:DAYLIGHT
TZOFFSETFROM:+0100
RRULE:FREQ=YEARLY;BYMONTH=3;BYDAY=-1SU
DTSTART:19810329T020000
TZNAME:MESZ
TZOFFSETTO:+0200
END:DAYLIGHT
BEGIN:STANDARD
TZOFFSETFROM:+0200
RRULE:FREQ=YEARLY;BYMONTH=10;BYDAY=-1SU
DTSTART:19961027T030000
TZNAME:MEZ
TZOFFSETTO:+0100
END:STANDARD
END:VTIMEZONE
BEGIN:VEVENT
UID:20190829T182443Z-00000481560-LULU@www.bayernspd.de
CREATED:20190829T182443Z
LAST-MODIFIED:20190914T094452Z
DTSTAMP:20190914T094452Z
TRANSP:TRANSPARENT
DTSTART;TZID=Europe/Berlin:20191026T100000
DTEND;TZID=Europe/Berlin:20191026T120000
SUMMARY:Bürgersprechstunde der SPD Hösbach - Wir freuen uns auf Sie!
LOCATION:Feldkahl\, Feuerwehr
DESCRIPTION:Termin im Web (SPD Hösbach):\nhttps://spd-hoesbach.de/termin
 e/?id=481560
END:VEVENT
END:VCALENDAR
